BEGIN:VCALENDAR
VERSION:2.0
PRODID:-//Resonanz - ECPv6.15.20//NONSGML v1.0//EN
CALSCALE:GREGORIAN
METHOD:PUBLISH
X-ORIGINAL-URL:https://resonanz-austria.org
X-WR-CALDESC:Events for Resonanz
REFRESH-INTERVAL;VALUE=DURATION:PT1H
X-Robots-Tag:noindex
X-PUBLISHED-TTL:PT1H
BEGIN:VTIMEZONE
TZID:Europe/Vienna
BEGIN:DAYLIGHT
TZOFFSETFROM:+0100
TZOFFSETTO:+0200
TZNAME:CEST
DTSTART:20170326T010000
END:DAYLIGHT
BEGIN:STANDARD
TZOFFSETFROM:+0200
TZOFFSETTO:+0100
TZNAME:CET
DTSTART:20171029T010000
END:STANDARD
BEGIN:DAYLIGHT
TZOFFSETFROM:+0100
TZOFFSETTO:+0200
TZNAME:CEST
DTSTART:20180325T010000
END:DAYLIGHT
BEGIN:STANDARD
TZOFFSETFROM:+0200
TZOFFSETTO:+0100
TZNAME:CET
DTSTART:20181028T010000
END:STANDARD
BEGIN:DAYLIGHT
TZOFFSETFROM:+0100
TZOFFSETTO:+0200
TZNAME:CEST
DTSTART:20190331T010000
END:DAYLIGHT
BEGIN:STANDARD
TZOFFSETFROM:+0200
TZOFFSETTO:+0100
TZNAME:CET
DTSTART:20191027T010000
END:STANDARD
BEGIN:DAYLIGHT
TZOFFSETFROM:+0100
TZOFFSETTO:+0200
TZNAME:CEST
DTSTART:20200329T010000
END:DAYLIGHT
BEGIN:STANDARD
TZOFFSETFROM:+0200
TZOFFSETTO:+0100
TZNAME:CET
DTSTART:20201025T010000
END:STANDARD
END:VTIMEZONE
BEGIN:VEVENT
DTSTART;TZID=Europe/Vienna:20190514T090000
DTEND;TZID=Europe/Vienna:20190515T170000
DTSTAMP:20260420T095108
CREATED:20190207T235443Z
LAST-MODIFIED:20210201T155609Z
UID:2237-1557824400-1557939600@resonanz-austria.org
SUMMARY:Workshop: The Groundwork
DESCRIPTION:The Groundwork is the new kid on the block for us at Resonanz. It has proven to be a simple and powerful model for good collaboration helping to identify areas of improvement and blind spots. For us it is a missing link between the Art of Hosting and Organisational Development.  \n\n\n\n\n\n\n\nAfter a truly wicked workshop in 2018 with the founders James\, Rowan and Toke\, we are delighted to welcome this great team again in May to dive deeper into the Groundwork model. 
URL:https://resonanz-austria.org/event/2019-05-workshop-the-groundwork/
LOCATION:Seminarhotel Springer Schlössl\, Tivoligasse 73\, Wien\, 1120\, Austria
CATEGORIES:Art of Hosting,Groundwork
ATTACH;FMTTYPE=image/png:https://resonanz-austria.org/wp-content/uploads/2019/02/groundwork-model-modulo5-2-1024x1024_orig.png
ORGANIZER;CN="Resonanz Austria":MAILTO:office@resonanz-austria.org
END:VEVENT
BEGIN:VEVENT
DTSTART;TZID=Europe/Vienna:20190428T190000
DTEND;TZID=Europe/Vienna:20190504T200000
DTSTAMP:20260420T095108
CREATED:20190207T130942Z
LAST-MODIFIED:20210201T155609Z
UID:2093-1556478000-1557000000@resonanz-austria.org
SUMMARY:Training: Art of Hosting Yspertal (in German)
DESCRIPTION:Art of Hosting: Die Kunst des Gastgebens guter Gespräche als Antrieb für eine menschliche Kultur des Miteinanders und Führung auf Augenhöhe in Teams\, Wirtschaft und Gesellschaft. \n\n\n\nWir laden Sie ein\, eine Kultur des Miteinanders und neue Formen von Leadership zu lernen\, zu reflektieren und zu praktizieren\, um bessere Entscheidungen in Teams\, Wirtschaft und Gesellschaft zu treffen.
URL:https://resonanz-austria.org/event/2019-04-training-art-of-hosting-training-yspertal-in-german/
LOCATION:Landhotel Yspertal\, Ysper 1\, Yspertal\, Austria
CATEGORIES:Art of Hosting
ATTACH;FMTTYPE=image/jpeg:https://resonanz-austria.org/wp-content/uploads/2019/03/0180-AoH-2018-Yspertal-IMG_3485-Sylvia-Petrovic-Majer.jpg
ORGANIZER;CN="Transformation Leben":MAILTO:aoh@transformationleben.at
END:VEVENT
BEGIN:VEVENT
DTSTART;TZID=Europe/Vienna:20190214T180000
DTEND;TZID=Europe/Vienna:20190220T170000
DTSTAMP:20260420T095108
CREATED:20190207T134712Z
LAST-MODIFIED:20210201T155609Z
UID:2140-1550167200-1550682000@resonanz-austria.org
SUMMARY:Training: Art of Hosting Central  & Eastern Europe
DESCRIPTION:How can we create the conditions for a partnership society in times of polarisation? \n\n\n\nHow can we engage in real dialogues when it is difficult?How can we\, as people and organisations\, be resilient in times of crisis?How can we create a partnership society when the gaps are so wide and deep?\n\n\n\nThese questions have been inspired by the everyday reality and severe challenges arising not only in Hungary\, but all around the world. The practices of participatory leadership provide tools for collective sense-making and action\, through the most direct way of connecting to each other: conversations. \n\n\n\nHosting and participating in transformational conversations – whether in a family\, a neighbourhood\, an organisation or a larger community – can create an impact proportionally much greater than our apparent size would justify\, compared to those who hold power. \n\n\n\nWe invite you to join us in shared learning about how participatory leadership can pave the way for a partnership society where people can freely express their truth and bring the wealth of diversity into collaboration.
URL:https://resonanz-austria.org/event/2019-02-training-art-of-hosting-central-eastern-europe/
CATEGORIES:Art of Hosting
ORGANIZER;CN="Melinda Varfi":MAILTO:melinda@resonanz-austria.org
END:VEVENT
BEGIN:VEVENT
DTSTART;TZID=Europe/Vienna:20181113T190000
DTEND;TZID=Europe/Vienna:20181119T170000
DTSTAMP:20260420T095108
CREATED:20181106T230035Z
LAST-MODIFIED:20210201T155609Z
UID:148-1542135600-1542646800@resonanz-austria.org
SUMMARY:Training: Art of Hosting Vienna (in German)
DESCRIPTION:
URL:https://resonanz-austria.org/event/2018-11-training-art-of-hosting-vienna/
LOCATION:Seminarhotel Springer Schlössl\, Tivoligasse 73\, Wien\, 1120\, Austria
CATEGORIES:Art of Hosting
ORGANIZER;CN="Transformation Leben":MAILTO:aoh@transformationleben.at
END:VEVENT
BEGIN:VEVENT
DTSTART;TZID=Europe/Vienna:20180404T190000
DTEND;TZID=Europe/Vienna:20180407T200000
DTSTAMP:20260420T095108
CREATED:20180403T220032Z
LAST-MODIFIED:20210201T155609Z
UID:2275-1522868400-1523131200@resonanz-austria.org
SUMMARY:Training: Art of Hosting Yspertal (in German)
DESCRIPTION:Einladung zum AoH-Training Yspertal: April 2018
URL:https://resonanz-austria.org/event/2018-04-training-art-of-hosting-yspertal-in-german/
LOCATION:Landhotel Yspertal\, Ysper 1\, Yspertal\, Austria
CATEGORIES:Art of Hosting
ORGANIZER;CN="Transformation Leben":MAILTO:aoh@transformationleben.at
END:VEVENT
END:VCALENDAR